BEGIN:VCALENDAR
VERSION:2.0
PRODID:-//FFM MiniGolf - ECPv6.15.20//NONSGML v1.0//EN
CALSCALE:GREGORIAN
METHOD:PUBLISH
X-ORIGINAL-URL:http://minigolfsports.fr
X-WR-CALDESC:Évènements pour FFM MiniGolf
REFRESH-INTERVAL;VALUE=DURATION:PT1H
X-Robots-Tag:noindex
X-PUBLISHED-TTL:PT1H
BEGIN:VTIMEZONE
TZID:Europe/Paris
BEGIN:DAYLIGHT
TZOFFSETFROM:+0100
TZOFFSETTO:+0200
TZNAME:CEST
DTSTART:20250330T010000
END:DAYLIGHT
BEGIN:STANDARD
TZOFFSETFROM:+0200
TZOFFSETTO:+0100
TZNAME:CET
DTSTART:20251026T010000
END:STANDARD
BEGIN:DAYLIGHT
TZOFFSETFROM:+0100
TZOFFSETTO:+0200
TZNAME:CEST
DTSTART:20260329T010000
END:DAYLIGHT
BEGIN:STANDARD
TZOFFSETFROM:+0200
TZOFFSETTO:+0100
TZNAME:CET
DTSTART:20261025T010000
END:STANDARD
BEGIN:DAYLIGHT
TZOFFSETFROM:+0100
TZOFFSETTO:+0200
TZNAME:CEST
DTSTART:20270328T010000
END:DAYLIGHT
BEGIN:STANDARD
TZOFFSETFROM:+0200
TZOFFSETTO:+0100
TZNAME:CET
DTSTART:20271031T010000
END:STANDARD
END:VTIMEZONE
BEGIN:VEVENT
DTSTART;TZID=Europe/Paris:20260516T080000
DTEND;TZID=Europe/Paris:20260517T133000
DTSTAMP:20260421T191948
CREATED:20260322T165332Z
LAST-MODIFIED:20260322T170032Z
UID:1958-1778918400-1779024600@minigolfsports.fr
SUMMARY:Tournois Henri IV
DESCRIPTION:
URL:http://minigolfsports.fr/event/tournois-henri-iv
LOCATION:Minigolf Le Moulin\, SARL Le Moulin\, Lons\, 64140\, France
ATTACH;FMTTYPE=image/jpeg:http://minigolfsports.fr/wp-content/uploads/2026/03/affiche261.jpg
ORGANIZER;CN="B%C3%A9arn Club de Golf sur Pistes":MAILTO:bearnclub.minigolf@orange.fr
END:VEVENT
END:VCALENDAR