BEGIN:VCALENDAR
VERSION:2.0
PRODID:-//FFM MiniGolf - ECPv6.15.20//NONSGML v1.0//EN
CALSCALE:GREGORIAN
METHOD:PUBLISH
X-WR-CALNAME:FFM MiniGolf
X-ORIGINAL-URL:http://minigolfsports.fr
X-WR-CALDESC:Évènements pour FFM MiniGolf
REFRESH-INTERVAL;VALUE=DURATION:PT1H
X-Robots-Tag:noindex
X-PUBLISHED-TTL:PT1H
BEGIN:VTIMEZONE
TZID:Europe/Paris
BEGIN:DAYLIGHT
TZOFFSETFROM:+0100
TZOFFSETTO:+0200
TZNAME:CEST
DTSTART:20250330T010000
END:DAYLIGHT
BEGIN:STANDARD
TZOFFSETFROM:+0200
TZOFFSETTO:+0100
TZNAME:CET
DTSTART:20251026T010000
END:STANDARD
BEGIN:DAYLIGHT
TZOFFSETFROM:+0100
TZOFFSETTO:+0200
TZNAME:CEST
DTSTART:20260329T010000
END:DAYLIGHT
BEGIN:STANDARD
TZOFFSETFROM:+0200
TZOFFSETTO:+0100
TZNAME:CET
DTSTART:20261025T010000
END:STANDARD
BEGIN:DAYLIGHT
TZOFFSETFROM:+0100
TZOFFSETTO:+0200
TZNAME:CEST
DTSTART:20270328T010000
END:DAYLIGHT
BEGIN:STANDARD
TZOFFSETFROM:+0200
TZOFFSETTO:+0100
TZNAME:CET
DTSTART:20271031T010000
END:STANDARD
END:VTIMEZONE
BEGIN:VEVENT
DTSTART;TZID=Europe/Paris:20260405T080000
DTEND;TZID=Europe/Paris:20260406T130000
DTSTAMP:20260421T191335
CREATED:20260321T104852Z
LAST-MODIFIED:20260322T165926Z
UID:1951-1775376000-1775480400@minigolfsports.fr
SUMMARY:Tournois Cloches et Clochettes 2026
DESCRIPTION:
URL:http://minigolfsports.fr/event/tournois-cloches-et-clochettes-2026
LOCATION:Torreilles Plage\, Torreilles\, 66440\, France
ATTACH;FMTTYPE=image/jpeg:http://minigolfsports.fr/wp-content/uploads/2026/03/INVITATION-CLOCHES-ET-CLOCHETTES-20261-1.jpg
ORGANIZER;CN="USTMG":MAILTO:g.raynal@groupeplg.com
END:VEVENT
END:VCALENDAR